BEGIN:VCALENDAR
VERSION:2.0
PRODID:-//Film Birmingham - ECPv6.15.20//NONSGML v1.0//EN
CALSCALE:GREGORIAN
METHOD:PUBLISH
X-ORIGINAL-URL:https://filmbirmingham.co.uk
X-WR-CALDESC:Events for Film Birmingham
REFRESH-INTERVAL;VALUE=DURATION:PT1H
X-Robots-Tag:noindex
X-PUBLISHED-TTL:PT1H
BEGIN:VTIMEZONE
TZID:UTC
BEGIN:STANDARD
TZOFFSETFROM:+0000
TZOFFSETTO:+0000
TZNAME:UTC
DTSTART:20230101T000000
END:STANDARD
END:VTIMEZONE
BEGIN:VEVENT
DTSTART;TZID=UTC:20241128T183000
DTEND;TZID=UTC:20241128T223000
DTSTAMP:20260419T122405
CREATED:20241026T002605Z
LAST-MODIFIED:20241026T002605Z
UID:11481-1732818600-1732833000@filmbirmingham.co.uk
SUMMARY:STIRCHLEY FILM AND FOOD FEST | Shorts\, beers and baked goods + filmmaker Q + A
DESCRIPTION:Join Stirchley Film and Food Fest as they celebrate the best local filmmakers in Brum\, screening their short films with Brum Brew Co. beers and baked goods from Levain and Cherry Bakery. \nThis special pop-up event closes the film and food festival with a pick-and-mix experience of films drinks and snacks. \nAbout the films: \n\nBoxer Short Films\, purveyors of the best in worldwide animation\, present their pick of mouth-watering animated shorts.\n‘Rushed’ (directed by local filmmaker Nadine O’Mahony) is the story of a chance encounter between a black woman and a South Asian man in Birmingham forces them to confront life changing events they are desperately trying to escape. Nadine is a writer/director of Irish and Jamaican heritage who creates character-based stories with striking visuals. Her BFI funded short Rushed premiered at the BAFTA qualifying Flatpack Film Festival and won Best Breakout film at the Windrush Caribbean Film Festival. In her spare time\, she is head programmer for Screen B14 a non-profit\, community cinema and film collective and co-hosts The Brum Picture Show a digital radio show and podcast with an irreverent take on film news and reviews on Brum Radio.\n‘A Dumpling Story’\, Directed by Carl Woods; a MADEBYBRUM production. Step into Blowwater Cafe in Kings Heath\, Birmingham\, and take a journey across memory and food with Sabrina\, a creative from Hong Kong who finds community and friendship in a new city.\n\nAbout the food: \nKeeping the King’s Heath connection\, and welcoming them ahead of their new opening in Stirchley\, they have the battle of the bakeries! Levain and Cherry Bakery will provide snack boxes stuffed with the best fresh bakes\, and Aphra Bakes will offer cake options to slice on the night! 🥐🥖🥨 \nTo keep you refreshed\, Brum Brew Co. will be offering a complimentary drink on with your ticket\, and the bar will be open for the duration of the event. 🍺🍻🍷🥤 \nWhat to expect: \n🚪 Doors open 6:30pm \n🥂 Welcome drinks from Brum Brew Co. : 6:30 – 7pm \n🧆 Food served: A snack box jam-packed with baked goodies from Levain and Cherry \n🎥 Film starts 7.30pm \n~ Between the films they will host a casual discussion and Q and A with the local filmmakers ~ \nSome other important stuff:\nAll films will have subtitles where possible.\nThe venue is wheelchair accessible. Please let them know if you have any specific access needs\, and they’ll do their best to accommodate.\nThe snacks will be vegetarian and nut free\, but they can’t offer gluten free options at this event.\nThey’re doing everything they can to make Stirchley Film and Food Festival as eco-friendly as possible.
URL:https://filmbirmingham.co.uk/event/stirchley-film-and-food-fest-shorts-beers-and-baked-goods-filmmaker-q-a/
LOCATION:Birmingham Brewing Company\, Birmingham\, B30 2PF\, United Kingdom
CATEGORIES:festival,screening
ATTACH;FMTTYPE=image/png:https://filmbirmingham.co.uk/wp-content/uploads/2024/10/Screenshot-2024-10-26-at-01.17.48.png
END:VEVENT
END:VCALENDAR