BEGIN:VCALENDAR
VERSION:2.0
PRODID:-//Film Birmingham - ECPv6.15.20//NONSGML v1.0//EN
CALSCALE:GREGORIAN
METHOD:PUBLISH
X-WR-CALNAME:Film Birmingham
X-ORIGINAL-URL:https://filmbirmingham.co.uk
X-WR-CALDESC:Events for Film Birmingham
REFRESH-INTERVAL;VALUE=DURATION:PT1H
X-Robots-Tag:noindex
X-PUBLISHED-TTL:PT1H
BEGIN:VTIMEZONE
TZID:UTC
BEGIN:STANDARD
TZOFFSETFROM:+0000
TZOFFSETTO:+0000
TZNAME:UTC
DTSTART:20230101T000000
END:STANDARD
END:VTIMEZONE
BEGIN:VEVENT
DTSTART;TZID=UTC:20240403T123000
DTEND;TZID=UTC:20240403T133000
DTSTAMP:20260421T095234
CREATED:20240318T152713Z
LAST-MODIFIED:20240318T152713Z
UID:11231-1712147400-1712151000@filmbirmingham.co.uk
SUMMARY:BFI NETWORK Midlands Online Mixer
DESCRIPTION:Got an idea or script but need the team to work with on your short film? Or are you looking for projects to produce from filmmakers in the Midlands? \nBFI NETWORK Midlands are pleased to present our latest dedicated online mixer for Midlands talent. Bring your ideas and join us on Zoom for a lunchtime of networking with other filmmakers in the Midlands. \nWe can’t guarantee to solve all your team dilemmas\, but we can promise to hold a supportive space in which to share ideas\, talk about projects and build your filmmaking connections.
URL:https://filmbirmingham.co.uk/event/bfi-network-midlands-online-mixer/
LOCATION:Online
CATEGORIES:networking
ATTACH;FMTTYPE=image/jpeg:https://filmbirmingham.co.uk/wp-content/uploads/2024/03/Midlands-Online-Mixer.jpeg
END:VEVENT
END:VCALENDAR